BEGIN:VCALENDAR
VERSION:2.0
PRODID:-//wp-events-plugin.com//7.2.3.1//EN
TZID:Europe/Berlin
X-WR-TIMEZONE:Europe/Berlin
BEGIN:VEVENT
UID:231@dsgr-dithmarschen.de
DTSTART;TZID=Europe/Berlin:20240323T120000
DTEND;TZID=Europe/Berlin:20240323T120000
DTSTAMP:20240130T100809Z
URL:https://dsgr-dithmarschen.de/events/dsrg-gruenkohlessen-in-elpersbuett
 lerdonn/
SUMMARY:DSRG Grünkohlessen in Elpersbüttel "Zur Jägersburg"
DESCRIPTION:Liebe Mitglieder!\n\nWir wollen mit einem deftigen Grünkohless
 en am\n\nSonnabend\, 23. März 2024\, 12:00 Uhr\n\nin der Jägersburg\, El
 persbüttelerdonn 6\, Elpersbüttel\n\nunsere kulinarische Reise 2024 begi
 nnen.\n\nDas Essen kostet 18\,90 Euro. Diesen Betrag bitten wir wie immer 
 auf das Konto der Sparkasse Westholstein mit dem Stichwort “Grünkohless
 en 24 + Name“ zu überweisen.\n\nKonto Nr.: Sparkasse Westholstein IBAN 
 DE57222500200084701785\n\nDie Überweisung gilt als Anmeldung.\n\nANMELDES
 CHLUSS:   Freitag\, 15. März 2024\n\nWir freuen uns mit euch einige kur
 zweilige Stunden bei einem guten Essen und netten Gesprächen zu verbringe
 n!\n\nEuer Vorstand\n\nAstrid und Torsten
ATTACH;FMTTYPE=image/jpeg:https://dsgr-dithmarschen.de/wp-content/uploads/
 2023/01/kale-1006342_640.jpg
LOCATION:Zur Jägersburg\, Elpersbüttelerdonn 6\, Elpersbüttel\, 25704\, 
 Deutschland
X-APPLE-STRUCTURED-LOCATION;VALUE=URI;X-ADDRESS=Elpersbüttelerdonn 6\, Elp
 ersbüttel\, 25704\, Deutschland;X-APPLE-RADIUS=100;X-TITLE=Zur Jägersbur
 g:geo:0,0
END:VEVENT
BEGIN:VTIMEZONE
TZID:Europe/Berlin
X-LIC-LOCATION:Europe/Berlin
BEGIN:STANDARD
DTSTART:20231029T020000
TZOFFSETFROM:+0200
TZOFFSETTO:+0100
TZNAME:CET
END:STANDARD
END:VTIMEZONE
END:VCALENDAR