BEGIN:VCALENDAR
VERSION:2.0
PRODID:-//wp-events-plugin.com//7.2.3.1//EN
TZID:Europe/Berlin
X-WR-TIMEZONE:Europe/Berlin
BEGIN:VEVENT
UID:227@dsgr-dithmarschen.de
DTSTART;TZID=Europe/Berlin:20231017T143000
DTEND;TZID=Europe/Berlin:20231017T143000
DTSTAMP:20231002T145334Z
URL:https://dsgr-dithmarschen.de/events/herbstwanderung-mit-sportarzt-detl
 ef-glomm-2/
SUMMARY:Herbstwanderung mit Sportarzt Detlef Glomm
DESCRIPTION:Diesmal geht es rund um den Flugplatz und Golfplatz in Hopen\, 
 wobei alternativ je nach Fitness zwei Strecken von 4\,5 bzw. 5\,5 km gewä
 hlt werden können. Beide Strecken sind nicht für Rollatoren geeignet\, j
 edoch können Wander- oder Walking-Stöcke hilfr.......
END:VEVENT
BEGIN:VTIMEZONE
TZID:Europe/Berlin
X-LIC-LOCATION:Europe/Berlin
BEGIN:DAYLIGHT
DTSTART:20230326T030000
TZOFFSETFROM:+0100
TZOFFSETTO:+0200
TZNAME:CEST
END:DAYLIGHT
END:VTIMEZONE
END:VCALENDAR