BEGIN:VCALENDAR
VERSION:2.0
PRODID:-//wp-events-plugin.com//7.2.3.1//EN
TZID:Europe/Berlin
X-WR-TIMEZONE:Europe/Berlin
BEGIN:VEVENT
UID:244@dsgr-dithmarschen.de
DTSTART;TZID=Europe/Berlin;VALUE=DATE:20241219
DTEND;TZID=Europe/Berlin;VALUE=DATE:20250108
DTSTAMP:20241217T082406Z
URL:https://dsgr-dithmarschen.de/events/kein-sport-in-der-gemeinschaftssch
 ule-meldorf/
SUMMARY:Kein Sport in der Gemeinschaftsschule Meldorf
DESCRIPTION:19.12.2024 bis 07.01.2025 geschlossen!
ATTACH;FMTTYPE=image/jpeg:https://dsgr-dithmarschen.de/wp-content/uploads/
 2024/12/kermit_640.jpg
END:VEVENT
BEGIN:VTIMEZONE
TZID:Europe/Berlin
X-LIC-LOCATION:Europe/Berlin
BEGIN:STANDARD
DTSTART:20241027T020000
TZOFFSETFROM:+0200
TZOFFSETTO:+0100
TZNAME:CET
END:STANDARD
END:VTIMEZONE
END:VCALENDAR