BEGIN:VCALENDAR
VERSION:2.0
PRODID:-//wp-events-plugin.com//7.2.3.1//EN
TZID:Europe/Berlin
X-WR-TIMEZONE:Europe/Berlin
BEGIN:VEVENT
UID:232@dsgr-dithmarschen.de
DTSTART;TZID=Europe/Berlin:20240419T180000
DTEND;TZID=Europe/Berlin:20240419T180000
DTSTAMP:20240327T213854Z
URL:https://dsgr-dithmarschen.de/events/mitgliederversammlung-2024/
SUMMARY:Mitgliederversammlung 2024
DESCRIPTION:Für weitere Informationen hier klicken!
ATTACH;FMTTYPE=image/jpeg:https://dsgr-dithmarschen.de/wp-content/uploads/
 2024/03/crowd-2457732_640.jpg
LOCATION:Gasthaus Zum Lindenhof\, Österstr. 7 a\, Sarzbüttel\, 25785 \, D
 eutschland
X-APPLE-STRUCTURED-LOCATION;VALUE=URI;X-ADDRESS=Österstr. 7 a\, Sarzbütte
 l\, 25785 \, Deutschland;X-APPLE-RADIUS=100;X-TITLE=Gasthaus Zum Lindenhof
 :geo:0,0
END:VEVENT
BEGIN:VTIMEZONE
TZID:Europe/Berlin
X-LIC-LOCATION:Europe/Berlin
BEGIN:DAYLIGHT
DTSTART:20240331T030000
TZOFFSETFROM:+0100
TZOFFSETTO:+0200
TZNAME:CEST
END:DAYLIGHT
END:VTIMEZONE
END:VCALENDAR