BEGIN:VCALENDAR
VERSION:2.0
PRODID:-//wp-events-plugin.com//7.2.3.1//EN
TZID:Europe/Berlin
X-WR-TIMEZONE:Europe/Berlin
BEGIN:VEVENT
UID:234@dsgr-dithmarschen.de
DTSTART;TZID=Europe/Berlin:20240816T000000
DTEND;TZID=Europe/Berlin:20240816T000000
DTSTAMP:20240507T210906Z
URL:https://dsgr-dithmarschen.de/events/radtour-2024-und-anschliessendes-g
 rillfest/
SUMMARY:Radtour 2024 und anschließendes Grillfest
DESCRIPTION:Vorab-Information:\n\nRadtour und anschließendes Grillfest in 
 der Jägersburg in Elpersbüttel.\n\nWeitere Informationen folgen.
ATTACH;FMTTYPE=image/jpeg:https://dsgr-dithmarschen.de/wp-content/uploads/
 2024/05/bicycle-4168960_640.png
LOCATION:Zur Jägersburg\, Elpersbüttelerdonn 6\, Elpersbüttel\, 25704\, 
 Deutschland
X-APPLE-STRUCTURED-LOCATION;VALUE=URI;X-ADDRESS=Elpersbüttelerdonn 6\, Elp
 ersbüttel\, 25704\, Deutschland;X-APPLE-RADIUS=100;X-TITLE=Zur Jägersbur
 g:geo:0,0
END:VEVENT
BEGIN:VTIMEZONE
TZID:Europe/Berlin
X-LIC-LOCATION:Europe/Berlin
BEGIN:DAYLIGHT
DTSTART:20240331T030000
TZOFFSETFROM:+0100
TZOFFSETTO:+0200
TZNAME:CEST
END:DAYLIGHT
END:VTIMEZONE
END:VCALENDAR