BEGIN:VCALENDAR
VERSION:2.0
PRODID:-//wp-events-plugin.com//7.2.3.1//EN
TZID:Europe/Berlin
X-WR-TIMEZONE:Europe/Berlin
BEGIN:VEVENT
UID:230@dsgr-dithmarschen.de
DTSTART;TZID=Europe/Berlin:20240129T000000
DTEND;TZID=Europe/Berlin:20240205T000000
DTSTAMP:20231126T143050Z
URL:https://dsgr-dithmarschen.de/events/schwimmbad-marne-geschlossen-ausfa
 ll-schwimmsport/
SUMMARY:Schwimmbad Marne geschlossen - Ausfall Schwimmsport
DESCRIPTION:Das Schwimmbad Marne wird wg. Reinigungsarbeiten in der Zeit vo
 n Montag\, 29. Januar 2024 bis Montag 5. Februar 2024 geschlossen sein.\n\
 nGeschwommen wird also letztmalig am Montag\, 22. Januar 2024 und Start is
 t dann wieder am Montag\, 12. Februar 2024.
END:VEVENT
BEGIN:VTIMEZONE
TZID:Europe/Berlin
X-LIC-LOCATION:Europe/Berlin
BEGIN:STANDARD
DTSTART:20231029T020000
TZOFFSETFROM:+0200
TZOFFSETTO:+0100
TZNAME:CET
END:STANDARD
END:VTIMEZONE
END:VCALENDAR