BEGIN:VCALENDAR
VERSION:2.0
PRODID:-//wp-events-plugin.com//7.2.3.1//EN
TZID:Europe/Berlin
X-WR-TIMEZONE:Europe/Berlin
BEGIN:VEVENT
UID:241@dsgr-dithmarschen.de
DTSTART;TZID=Europe/Berlin:20240820T170000
DTEND;TZID=Europe/Berlin:20240820T170000
DTSTAMP:20240717T161231Z
URL:https://dsgr-dithmarschen.de/events/sportabzeichen-2024-2024-08-20/
SUMMARY:Sportabzeichen 2024
DESCRIPTION:Vorab-Information:\n\nSportabzeichen in Meldorf\, Promenade im 
 Stadion.\n\nJeweils Dienstags vom 23.07.2024 bis 27.08.2024\n\nWeitere Inf
 ormationen folgen
ATTACH;FMTTYPE=image/jpeg:https://dsgr-dithmarschen.de/wp-content/uploads/
 2024/05/tennis-7968714_640.png
LOCATION:Promenade im Stadion\, Promenade im Stadion\, Meldorf\, Schleswig-
 Holstein\, 25704\, Dithmarschen\, Deutschland
X-APPLE-STRUCTURED-LOCATION;VALUE=URI;X-ADDRESS=Promenade im Stadion\, Meld
 orf\, Schleswig-Holstein\, 25704\, Dithmarschen\, Deutschland;X-APPLE-RADI
 US=100;X-TITLE=Promenade im Stadion:geo:0,0
END:VEVENT
BEGIN:VTIMEZONE
TZID:Europe/Berlin
X-LIC-LOCATION:Europe/Berlin
BEGIN:DAYLIGHT
DTSTART:20240331T030000
TZOFFSETFROM:+0100
TZOFFSETTO:+0200
TZNAME:CEST
END:DAYLIGHT
END:VTIMEZONE
END:VCALENDAR