BEGIN:VCALENDAR
VERSION:2.0
PRODID:-//wp-events-plugin.com//7.2.3.1//EN
TZID:Europe/Berlin
X-WR-TIMEZONE:Europe/Berlin
BEGIN:VEVENT
UID:245@dsgr-dithmarschen.de
DTSTART;TZID=Europe/Berlin;VALUE=DATE:20250108
DTEND;TZID=Europe/Berlin;VALUE=DATE:20250109
DTSTAMP:20241217T082825Z
URL:https://dsgr-dithmarschen.de/events/start-in-die-dsgr-sportsaison-2025
 /
SUMMARY:Start in die DSGR Sportsaison 2025
DESCRIPTION:Liebe Mitglieder\,\n\nwir starten wieder im neuen Jahr am Mittw
 och\, den 08.01.2025 mit den gewohnten Sportgruppen.\n\nWenn Ihr Fragen ha
 bt\, hier noch einmal die neue Nummer vom Vereinstelefon: Tel. 0155 6605 4
 901. \n\nIhr könnt aber auch jederzeit eure Übungsleiterinnen ansprechen
 .\n\nWeitere Informationen unter diesem Link *Klick*
ATTACH;FMTTYPE=image/jpeg:https://dsgr-dithmarschen.de/wp-content/uploads/
 2024/12/hand_640.png
END:VEVENT
BEGIN:VTIMEZONE
TZID:Europe/Berlin
X-LIC-LOCATION:Europe/Berlin
BEGIN:STANDARD
DTSTART:20241027T020000
TZOFFSETFROM:+0200
TZOFFSETTO:+0100
TZNAME:CET
END:STANDARD
END:VTIMEZONE
END:VCALENDAR