BEGIN:VCALENDAR
VERSION:2.0
PRODID:-//wp-events-plugin.com//7.2.3.1//EN
TZID:Europe/Berlin
X-WR-TIMEZONE:Europe/Berlin
BEGIN:VEVENT
UID:228@dsgr-dithmarschen.de
DTSTART;TZID=Europe/Berlin:20231209T120000
DTEND;TZID=Europe/Berlin:20231209T120000
DTSTAMP:20231108T210014Z
URL:https://dsgr-dithmarschen.de/events/weihnachtsfeier-2023/
SUMMARY:Weihnachtsfeier 2023
DESCRIPTION:Sonnabend\, 09. Dezember 2023 um 12:00 Uhr\n\nim Dithmarscher E
 ck\, Bundesstraße 6\, 25719 Busenwurth\n\nWeitere Informationen hier klic
 ken.
ATTACH;FMTTYPE=image/jpeg:https://dsgr-dithmarschen.de/wp-content/uploads/
 2021/10/christmas-party-gb3a5a2049_640.jpg
LOCATION:Gaststätte Dithmarscher Eck\, Busenwurth\, Bundesstraße 6\, Buse
 nwurth\, Schleswig-Holstein\, 25719\, Dithmarschen\, Deutschland
X-APPLE-STRUCTURED-LOCATION;VALUE=URI;X-ADDRESS=Bundesstraße 6\, Busenwurt
 h\, Schleswig-Holstein\, 25719\, Dithmarschen\, Deutschland;X-APPLE-RADIUS
 =100;X-TITLE=Gaststätte Dithmarscher Eck\, Busenwurth:geo:0,0
END:VEVENT
BEGIN:VTIMEZONE
TZID:Europe/Berlin
X-LIC-LOCATION:Europe/Berlin
BEGIN:STANDARD
DTSTART:20231029T020000
TZOFFSETFROM:+0200
TZOFFSETTO:+0100
TZNAME:CET
END:STANDARD
END:VTIMEZONE
END:VCALENDAR