BEGIN:VCALENDAR
VERSION:2.0
PRODID:-//wp-events-plugin.com//7.2.3.1//EN
TZID:Europe/Berlin
X-WR-TIMEZONE:Europe/Berlin
BEGIN:VEVENT
UID:243@dsgr-dithmarschen.de
DTSTART;TZID=Europe/Berlin:20250112T123000
DTEND;TZID=Europe/Berlin:20250112T123000
DTSTAMP:20241217T081929Z
URL:https://dsgr-dithmarschen.de/events/weihnachtsfeier-des-dsgr-e-v-2/
SUMMARY:Weihnachtsfeier des DSGR e.V.
DESCRIPTION:Unsere Nach-Weihnachtsfeier wird am\n\nSonntag\, den 12. Januar
  2025\, 12:30 Uhr\n\nim Lindenhof in 25785 Sarzbüttel\, Österstr. 7\n\ns
 tattfinden.\n\nWeitere Informationen unter diesem Link *Klick*
ATTACH;FMTTYPE=image/jpeg:https://dsgr-dithmarschen.de/wp-content/uploads/
 2024/12/christmas-party_640.jpg
LOCATION:Gasthaus Zum Lindenhof\, Österstr. 7 a\, Sarzbüttel\, 25785 \, D
 eutschland
X-APPLE-STRUCTURED-LOCATION;VALUE=URI;X-ADDRESS=Österstr. 7 a\, Sarzbütte
 l\, 25785 \, Deutschland;X-APPLE-RADIUS=100;X-TITLE=Gasthaus Zum Lindenhof
 :geo:0,0
END:VEVENT
BEGIN:VTIMEZONE
TZID:Europe/Berlin
X-LIC-LOCATION:Europe/Berlin
BEGIN:STANDARD
DTSTART:20241027T020000
TZOFFSETFROM:+0200
TZOFFSETTO:+0100
TZNAME:CET
END:STANDARD
END:VTIMEZONE
END:VCALENDAR