BEGIN:VCALENDAR
VERSION:2.0
PRODID:-//wp-events-plugin.com//7.2.3.1//EN
TZID:Europe/Berlin
X-WR-TIMEZONE:Europe/Berlin
BEGIN:VEVENT
UID:235@dsgr-dithmarschen.de
DTSTART;TZID=Europe/Berlin:20241207T143000
DTEND;TZID=Europe/Berlin:20241207T143000
DTSTAMP:20240507T212414Z
URL:https://dsgr-dithmarschen.de/events/weihnachtsfeier-im-lindenhof-in-sa
 rzbuettel/
SUMMARY:Weihnachtsfeier im Lindenhof in Sarzbüttel
DESCRIPTION:Vorab-Information:\n\nWeihnachtsfeier im Lindenhof in Sarzbütt
 el.\n\nWeitere Informationen folgen.
ATTACH;FMTTYPE=image/jpeg:https://dsgr-dithmarschen.de/wp-content/uploads/
 2023/11/christmas_640.jpg
LOCATION:Gasthaus Zum Lindenhof\, Österstr. 7 a\, Sarzbüttel\, 25785 \, D
 eutschland
X-APPLE-STRUCTURED-LOCATION;VALUE=URI;X-ADDRESS=Österstr. 7 a\, Sarzbütte
 l\, 25785 \, Deutschland;X-APPLE-RADIUS=100;X-TITLE=Gasthaus Zum Lindenhof
 :geo:0,0
END:VEVENT
BEGIN:VTIMEZONE
TZID:Europe/Berlin
X-LIC-LOCATION:Europe/Berlin
BEGIN:STANDARD
DTSTART:20241027T020000
TZOFFSETFROM:+0200
TZOFFSETTO:+0100
TZNAME:CET
END:STANDARD
END:VTIMEZONE
END:VCALENDAR