BEGIN:VCALENDAR
VERSION:2.0
PRODID:-//wp-events-plugin.com//7.2.3.1//EN
TZID:Europe/Berlin
X-WR-TIMEZONE:Europe/Berlin
BEGIN:VEVENT
UID:229@dsgr-dithmarschen.de
DTSTART;TZID=Europe/Berlin:20231221T000000
DTEND;TZID=Europe/Berlin:20240108T000000
DTSTAMP:20231126T143144Z
URL:https://dsgr-dithmarschen.de/events/winterpause-trockensport/
SUMMARY:Winterpause Trockensport
DESCRIPTION:Die Winterferien beginnen in diesem Jahr ab Donnerstag\, 21. De
 zember 2023 für alle Sportgruppen in der Turnhalle der Gemeinschaftsschul
 e Meldorf.\n\nDer erste Sport nach den Ferien wird am Dienstag\, 09. Janua
 r 2024 zu den üblichen Zeiten stattfinden.\n\nDie Mittwochgruppen starten
  am 10. Januar 2024 ebenfalls zu den üblichen Zeiten.
END:VEVENT
BEGIN:VTIMEZONE
TZID:Europe/Berlin
X-LIC-LOCATION:Europe/Berlin
BEGIN:STANDARD
DTSTART:20231029T020000
TZOFFSETFROM:+0200
TZOFFSETTO:+0100
TZNAME:CET
END:STANDARD
END:VTIMEZONE
END:VCALENDAR